BEGIN:VCALENDAR
VERSION:2.0
PRODID:-//We Love Vintage Shows - ECPv6.15.20//NONSGML v1.0//EN
CALSCALE:GREGORIAN
METHOD:PUBLISH
X-ORIGINAL-URL:https://welovevintageshows.co.uk
X-WR-CALDESC:Events for We Love Vintage Shows
REFRESH-INTERVAL;VALUE=DURATION:PT1H
X-Robots-Tag:noindex
X-PUBLISHED-TTL:PT1H
BEGIN:VTIMEZONE
TZID:UTC
BEGIN:STANDARD
TZOFFSETFROM:+0000
TZOFFSETTO:+0000
TZNAME:UTC
DTSTART:20220101T000000
END:STANDARD
END:VTIMEZONE
BEGIN:VEVENT
DTSTART;TZID=UTC:20230416T110000
DTEND;TZID=UTC:20230416T170000
DTSTAMP:20260420T065608
CREATED:20200428T132335Z
LAST-MODIFIED:20230222T080122Z
UID:1196-1681642800-1681664400@welovevintageshows.co.uk
SUMMARY:We Love Vintage Bristol
DESCRIPTION:Our debut show will be coming to Bristol’s fabulous Event Space @ The Paint Works. We will be joined by some of the best Vintage Clothing\, Accessories and Jewellery traders in the country. Check out our Meet the Family Page for an ever updating list of which traders will be on show. \nWith Free Parking available and plenty of buses running to their own stop\, it couldn’t be easier to get to us. For more information on this click here… \nWe look forward to seeing you on show day for a fabulous day of shopping!
URL:https://welovevintageshows.co.uk/event/we-love-vintage-bristol/
LOCATION:Event Space @ The Paintworks\, The Airstream Main Courtyards\, Paintworks\, Bristol\, Somerset\, BS4 3EH\, United Kingdom
ATTACH;FMTTYPE=image/png:https://welovevintageshows.co.uk/wp-content/uploads/2020/04/Bristol-Event-banner-1.png
ORGANIZER;CN="We Love vintage Shows":MAILTO:info@welovevintageshows.co.uk
END:VEVENT
END:VCALENDAR